BEGIN:VCALENDAR
VERSION:2.0
PRODID:-//Foamers&#039; Folly Brewing Co. - ECPv6.15.20//NONSGML v1.0//EN
CALSCALE:GREGORIAN
METHOD:PUBLISH
X-WR-CALNAME:Foamers&#039; Folly Brewing Co.
X-ORIGINAL-URL:https://foamersfolly.ca
X-WR-CALDESC:Events for Foamers&#039; Folly Brewing Co.
REFRESH-INTERVAL;VALUE=DURATION:PT1H
X-Robots-Tag:noindex
X-PUBLISHED-TTL:PT1H
BEGIN:VTIMEZONE
TZID:UTC
BEGIN:STANDARD
TZOFFSETFROM:+0000
TZOFFSETTO:+0000
TZNAME:UTC
DTSTART:20250101T000000
END:STANDARD
END:VTIMEZONE
BEGIN:VEVENT
DTSTART;TZID=UTC:20260714T190000
DTEND;TZID=UTC:20260714T203000
DTSTAMP:20260421T085902
CREATED:20241126T223223Z
LAST-MODIFIED:20251110T213558Z
UID:10001013-1784055600-1784061000@foamersfolly.ca
SUMMARY:Trivia Tuesday
DESCRIPTION:We are excited to present Trivia Tuesdays hosted by IQ 2000 Trivia! Every Tuesday from 7:00pm – 8:30pm come and play for your chance to win gift cards\, merchandise\, and other cool prizes!
URL:https://foamersfolly.ca/event/trivia-tuesday-42-2-2/2026-07-14/
LOCATION:Foamers’ Folly Brewing Co.\, 19221 122a Ave.\, Pitt Meadows\, BC\, V3Y 2E9\, Canada
ATTACH;FMTTYPE=image/jpeg:https://foamersfolly.ca/wp-content/uploads/2023/01/327391277_3356732067982597_5466787340285710940_n.jpeg
ORGANIZER;CN="IQ 2000 Trivia":MAILTO:creative@foamersfolly.ca
END:VEVENT
BEGIN:VEVENT
DTSTART;TZID=UTC:20260721T190000
DTEND;TZID=UTC:20260721T203000
DTSTAMP:20260421T085902
CREATED:20241126T223223Z
LAST-MODIFIED:20251110T213558Z
UID:10001014-1784660400-1784665800@foamersfolly.ca
SUMMARY:Trivia Tuesday
DESCRIPTION:We are excited to present Trivia Tuesdays hosted by IQ 2000 Trivia! Every Tuesday from 7:00pm – 8:30pm come and play for your chance to win gift cards\, merchandise\, and other cool prizes!
URL:https://foamersfolly.ca/event/trivia-tuesday-42-2-2/2026-07-21/
LOCATION:Foamers’ Folly Brewing Co.\, 19221 122a Ave.\, Pitt Meadows\, BC\, V3Y 2E9\, Canada
ATTACH;FMTTYPE=image/jpeg:https://foamersfolly.ca/wp-content/uploads/2023/01/327391277_3356732067982597_5466787340285710940_n.jpeg
ORGANIZER;CN="IQ 2000 Trivia":MAILTO:creative@foamersfolly.ca
END:VEVENT
BEGIN:VEVENT
DTSTART;TZID=UTC:20260728T190000
DTEND;TZID=UTC:20260728T203000
DTSTAMP:20260421T085902
CREATED:20241126T223223Z
LAST-MODIFIED:20251110T213558Z
UID:10001015-1785265200-1785270600@foamersfolly.ca
SUMMARY:Trivia Tuesday
DESCRIPTION:We are excited to present Trivia Tuesdays hosted by IQ 2000 Trivia! Every Tuesday from 7:00pm – 8:30pm come and play for your chance to win gift cards\, merchandise\, and other cool prizes!
URL:https://foamersfolly.ca/event/trivia-tuesday-42-2-2/2026-07-28/
LOCATION:Foamers’ Folly Brewing Co.\, 19221 122a Ave.\, Pitt Meadows\, BC\, V3Y 2E9\, Canada
ATTACH;FMTTYPE=image/jpeg:https://foamersfolly.ca/wp-content/uploads/2023/01/327391277_3356732067982597_5466787340285710940_n.jpeg
ORGANIZER;CN="IQ 2000 Trivia":MAILTO:creative@foamersfolly.ca
END:VEVENT
BEGIN:VEVENT
DTSTART;TZID=UTC:20260804T190000
DTEND;TZID=UTC:20260804T203000
DTSTAMP:20260421T085902
CREATED:20241126T223223Z
LAST-MODIFIED:20251110T213558Z
UID:10001016-1785870000-1785875400@foamersfolly.ca
SUMMARY:Trivia Tuesday
DESCRIPTION:We are excited to present Trivia Tuesdays hosted by IQ 2000 Trivia! Every Tuesday from 7:00pm – 8:30pm come and play for your chance to win gift cards\, merchandise\, and other cool prizes!
URL:https://foamersfolly.ca/event/trivia-tuesday-42-2-2/2026-08-04/
LOCATION:Foamers’ Folly Brewing Co.\, 19221 122a Ave.\, Pitt Meadows\, BC\, V3Y 2E9\, Canada
ATTACH;FMTTYPE=image/jpeg:https://foamersfolly.ca/wp-content/uploads/2023/01/327391277_3356732067982597_5466787340285710940_n.jpeg
ORGANIZER;CN="IQ 2000 Trivia":MAILTO:creative@foamersfolly.ca
END:VEVENT
BEGIN:VEVENT
DTSTART;TZID=UTC:20260811T190000
DTEND;TZID=UTC:20260811T203000
DTSTAMP:20260421T085902
CREATED:20241126T223223Z
LAST-MODIFIED:20251110T213558Z
UID:10001017-1786474800-1786480200@foamersfolly.ca
SUMMARY:Trivia Tuesday
DESCRIPTION:We are excited to present Trivia Tuesdays hosted by IQ 2000 Trivia! Every Tuesday from 7:00pm – 8:30pm come and play for your chance to win gift cards\, merchandise\, and other cool prizes!
URL:https://foamersfolly.ca/event/trivia-tuesday-42-2-2/2026-08-11/
LOCATION:Foamers’ Folly Brewing Co.\, 19221 122a Ave.\, Pitt Meadows\, BC\, V3Y 2E9\, Canada
ATTACH;FMTTYPE=image/jpeg:https://foamersfolly.ca/wp-content/uploads/2023/01/327391277_3356732067982597_5466787340285710940_n.jpeg
ORGANIZER;CN="IQ 2000 Trivia":MAILTO:creative@foamersfolly.ca
END:VEVENT
BEGIN:VEVENT
DTSTART;TZID=UTC:20260818T190000
DTEND;TZID=UTC:20260818T203000
DTSTAMP:20260421T085902
CREATED:20241126T223223Z
LAST-MODIFIED:20251110T213558Z
UID:10001018-1787079600-1787085000@foamersfolly.ca
SUMMARY:Trivia Tuesday
DESCRIPTION:We are excited to present Trivia Tuesdays hosted by IQ 2000 Trivia! Every Tuesday from 7:00pm – 8:30pm come and play for your chance to win gift cards\, merchandise\, and other cool prizes!
URL:https://foamersfolly.ca/event/trivia-tuesday-42-2-2/2026-08-18/
LOCATION:Foamers’ Folly Brewing Co.\, 19221 122a Ave.\, Pitt Meadows\, BC\, V3Y 2E9\, Canada
ATTACH;FMTTYPE=image/jpeg:https://foamersfolly.ca/wp-content/uploads/2023/01/327391277_3356732067982597_5466787340285710940_n.jpeg
ORGANIZER;CN="IQ 2000 Trivia":MAILTO:creative@foamersfolly.ca
END:VEVENT
BEGIN:VEVENT
DTSTART;TZID=UTC:20260825T190000
DTEND;TZID=UTC:20260825T203000
DTSTAMP:20260421T085902
CREATED:20241126T223223Z
LAST-MODIFIED:20251110T213558Z
UID:10001019-1787684400-1787689800@foamersfolly.ca
SUMMARY:Trivia Tuesday
DESCRIPTION:We are excited to present Trivia Tuesdays hosted by IQ 2000 Trivia! Every Tuesday from 7:00pm – 8:30pm come and play for your chance to win gift cards\, merchandise\, and other cool prizes!
URL:https://foamersfolly.ca/event/trivia-tuesday-42-2-2/2026-08-25/
LOCATION:Foamers’ Folly Brewing Co.\, 19221 122a Ave.\, Pitt Meadows\, BC\, V3Y 2E9\, Canada
ATTACH;FMTTYPE=image/jpeg:https://foamersfolly.ca/wp-content/uploads/2023/01/327391277_3356732067982597_5466787340285710940_n.jpeg
ORGANIZER;CN="IQ 2000 Trivia":MAILTO:creative@foamersfolly.ca
END:VEVENT
BEGIN:VEVENT
DTSTART;TZID=UTC:20260901T190000
DTEND;TZID=UTC:20260901T203000
DTSTAMP:20260421T085902
CREATED:20241126T223223Z
LAST-MODIFIED:20251110T213558Z
UID:10001020-1788289200-1788294600@foamersfolly.ca
SUMMARY:Trivia Tuesday
DESCRIPTION:We are excited to present Trivia Tuesdays hosted by IQ 2000 Trivia! Every Tuesday from 7:00pm – 8:30pm come and play for your chance to win gift cards\, merchandise\, and other cool prizes!
URL:https://foamersfolly.ca/event/trivia-tuesday-42-2-2/2026-09-01/
LOCATION:Foamers’ Folly Brewing Co.\, 19221 122a Ave.\, Pitt Meadows\, BC\, V3Y 2E9\, Canada
ATTACH;FMTTYPE=image/jpeg:https://foamersfolly.ca/wp-content/uploads/2023/01/327391277_3356732067982597_5466787340285710940_n.jpeg
ORGANIZER;CN="IQ 2000 Trivia":MAILTO:creative@foamersfolly.ca
END:VEVENT
BEGIN:VEVENT
DTSTART;TZID=UTC:20260908T190000
DTEND;TZID=UTC:20260908T203000
DTSTAMP:20260421T085902
CREATED:20241126T223223Z
LAST-MODIFIED:20251110T213558Z
UID:10001021-1788894000-1788899400@foamersfolly.ca
SUMMARY:Trivia Tuesday
DESCRIPTION:We are excited to present Trivia Tuesdays hosted by IQ 2000 Trivia! Every Tuesday from 7:00pm – 8:30pm come and play for your chance to win gift cards\, merchandise\, and other cool prizes!
URL:https://foamersfolly.ca/event/trivia-tuesday-42-2-2/2026-09-08/
LOCATION:Foamers’ Folly Brewing Co.\, 19221 122a Ave.\, Pitt Meadows\, BC\, V3Y 2E9\, Canada
ATTACH;FMTTYPE=image/jpeg:https://foamersfolly.ca/wp-content/uploads/2023/01/327391277_3356732067982597_5466787340285710940_n.jpeg
ORGANIZER;CN="IQ 2000 Trivia":MAILTO:creative@foamersfolly.ca
END:VEVENT
BEGIN:VEVENT
DTSTART;TZID=UTC:20260915T190000
DTEND;TZID=UTC:20260915T203000
DTSTAMP:20260421T085902
CREATED:20241126T223223Z
LAST-MODIFIED:20251110T213558Z
UID:10001022-1789498800-1789504200@foamersfolly.ca
SUMMARY:Trivia Tuesday
DESCRIPTION:We are excited to present Trivia Tuesdays hosted by IQ 2000 Trivia! Every Tuesday from 7:00pm – 8:30pm come and play for your chance to win gift cards\, merchandise\, and other cool prizes!
URL:https://foamersfolly.ca/event/trivia-tuesday-42-2-2/2026-09-15/
LOCATION:Foamers’ Folly Brewing Co.\, 19221 122a Ave.\, Pitt Meadows\, BC\, V3Y 2E9\, Canada
ATTACH;FMTTYPE=image/jpeg:https://foamersfolly.ca/wp-content/uploads/2023/01/327391277_3356732067982597_5466787340285710940_n.jpeg
ORGANIZER;CN="IQ 2000 Trivia":MAILTO:creative@foamersfolly.ca
END:VEVENT
BEGIN:VEVENT
DTSTART;TZID=UTC:20260922T190000
DTEND;TZID=UTC:20260922T203000
DTSTAMP:20260421T085902
CREATED:20241126T223223Z
LAST-MODIFIED:20251110T213558Z
UID:10001023-1790103600-1790109000@foamersfolly.ca
SUMMARY:Trivia Tuesday
DESCRIPTION:We are excited to present Trivia Tuesdays hosted by IQ 2000 Trivia! Every Tuesday from 7:00pm – 8:30pm come and play for your chance to win gift cards\, merchandise\, and other cool prizes!
URL:https://foamersfolly.ca/event/trivia-tuesday-42-2-2/2026-09-22/
LOCATION:Foamers’ Folly Brewing Co.\, 19221 122a Ave.\, Pitt Meadows\, BC\, V3Y 2E9\, Canada
ATTACH;FMTTYPE=image/jpeg:https://foamersfolly.ca/wp-content/uploads/2023/01/327391277_3356732067982597_5466787340285710940_n.jpeg
ORGANIZER;CN="IQ 2000 Trivia":MAILTO:creative@foamersfolly.ca
END:VEVENT
BEGIN:VEVENT
DTSTART;TZID=UTC:20260929T190000
DTEND;TZID=UTC:20260929T203000
DTSTAMP:20260421T085902
CREATED:20241126T223223Z
LAST-MODIFIED:20251110T213558Z
UID:10001024-1790708400-1790713800@foamersfolly.ca
SUMMARY:Trivia Tuesday
DESCRIPTION:We are excited to present Trivia Tuesdays hosted by IQ 2000 Trivia! Every Tuesday from 7:00pm – 8:30pm come and play for your chance to win gift cards\, merchandise\, and other cool prizes!
URL:https://foamersfolly.ca/event/trivia-tuesday-42-2-2/2026-09-29/
LOCATION:Foamers’ Folly Brewing Co.\, 19221 122a Ave.\, Pitt Meadows\, BC\, V3Y 2E9\, Canada
ATTACH;FMTTYPE=image/jpeg:https://foamersfolly.ca/wp-content/uploads/2023/01/327391277_3356732067982597_5466787340285710940_n.jpeg
ORGANIZER;CN="IQ 2000 Trivia":MAILTO:creative@foamersfolly.ca
END:VEVENT
BEGIN:VEVENT
DTSTART;TZID=UTC:20261006T190000
DTEND;TZID=UTC:20261006T203000
DTSTAMP:20260421T085902
CREATED:20241126T223223Z
LAST-MODIFIED:20251110T213558Z
UID:10001025-1791313200-1791318600@foamersfolly.ca
SUMMARY:Trivia Tuesday
DESCRIPTION:We are excited to present Trivia Tuesdays hosted by IQ 2000 Trivia! Every Tuesday from 7:00pm – 8:30pm come and play for your chance to win gift cards\, merchandise\, and other cool prizes!
URL:https://foamersfolly.ca/event/trivia-tuesday-42-2-2/2026-10-06/
LOCATION:Foamers’ Folly Brewing Co.\, 19221 122a Ave.\, Pitt Meadows\, BC\, V3Y 2E9\, Canada
ATTACH;FMTTYPE=image/jpeg:https://foamersfolly.ca/wp-content/uploads/2023/01/327391277_3356732067982597_5466787340285710940_n.jpeg
ORGANIZER;CN="IQ 2000 Trivia":MAILTO:creative@foamersfolly.ca
END:VEVENT
BEGIN:VEVENT
DTSTART;TZID=UTC:20261013T190000
DTEND;TZID=UTC:20261013T203000
DTSTAMP:20260421T085902
CREATED:20241126T223223Z
LAST-MODIFIED:20251110T213558Z
UID:10001026-1791918000-1791923400@foamersfolly.ca
SUMMARY:Trivia Tuesday
DESCRIPTION:We are excited to present Trivia Tuesdays hosted by IQ 2000 Trivia! Every Tuesday from 7:00pm – 8:30pm come and play for your chance to win gift cards\, merchandise\, and other cool prizes!
URL:https://foamersfolly.ca/event/trivia-tuesday-42-2-2/2026-10-13/
LOCATION:Foamers’ Folly Brewing Co.\, 19221 122a Ave.\, Pitt Meadows\, BC\, V3Y 2E9\, Canada
ATTACH;FMTTYPE=image/jpeg:https://foamersfolly.ca/wp-content/uploads/2023/01/327391277_3356732067982597_5466787340285710940_n.jpeg
ORGANIZER;CN="IQ 2000 Trivia":MAILTO:creative@foamersfolly.ca
END:VEVENT
BEGIN:VEVENT
DTSTART;TZID=UTC:20261020T190000
DTEND;TZID=UTC:20261020T203000
DTSTAMP:20260421T085902
CREATED:20241126T223223Z
LAST-MODIFIED:20251110T213558Z
UID:10001027-1792522800-1792528200@foamersfolly.ca
SUMMARY:Trivia Tuesday
DESCRIPTION:We are excited to present Trivia Tuesdays hosted by IQ 2000 Trivia! Every Tuesday from 7:00pm – 8:30pm come and play for your chance to win gift cards\, merchandise\, and other cool prizes!
URL:https://foamersfolly.ca/event/trivia-tuesday-42-2-2/2026-10-20/
LOCATION:Foamers’ Folly Brewing Co.\, 19221 122a Ave.\, Pitt Meadows\, BC\, V3Y 2E9\, Canada
ATTACH;FMTTYPE=image/jpeg:https://foamersfolly.ca/wp-content/uploads/2023/01/327391277_3356732067982597_5466787340285710940_n.jpeg
ORGANIZER;CN="IQ 2000 Trivia":MAILTO:creative@foamersfolly.ca
END:VEVENT
BEGIN:VEVENT
DTSTART;TZID=UTC:20261027T190000
DTEND;TZID=UTC:20261027T203000
DTSTAMP:20260421T085902
CREATED:20241126T223223Z
LAST-MODIFIED:20251110T213558Z
UID:10001028-1793127600-1793133000@foamersfolly.ca
SUMMARY:Trivia Tuesday
DESCRIPTION:We are excited to present Trivia Tuesdays hosted by IQ 2000 Trivia! Every Tuesday from 7:00pm – 8:30pm come and play for your chance to win gift cards\, merchandise\, and other cool prizes!
URL:https://foamersfolly.ca/event/trivia-tuesday-42-2-2/2026-10-27/
LOCATION:Foamers’ Folly Brewing Co.\, 19221 122a Ave.\, Pitt Meadows\, BC\, V3Y 2E9\, Canada
ATTACH;FMTTYPE=image/jpeg:https://foamersfolly.ca/wp-content/uploads/2023/01/327391277_3356732067982597_5466787340285710940_n.jpeg
ORGANIZER;CN="IQ 2000 Trivia":MAILTO:creative@foamersfolly.ca
END:VEVENT
BEGIN:VEVENT
DTSTART;TZID=UTC:20261103T190000
DTEND;TZID=UTC:20261103T203000
DTSTAMP:20260421T085902
CREATED:20241126T223223Z
LAST-MODIFIED:20251110T213558Z
UID:10001029-1793732400-1793737800@foamersfolly.ca
SUMMARY:Trivia Tuesday
DESCRIPTION:We are excited to present Trivia Tuesdays hosted by IQ 2000 Trivia! Every Tuesday from 7:00pm – 8:30pm come and play for your chance to win gift cards\, merchandise\, and other cool prizes!
URL:https://foamersfolly.ca/event/trivia-tuesday-42-2-2/2026-11-03/
LOCATION:Foamers’ Folly Brewing Co.\, 19221 122a Ave.\, Pitt Meadows\, BC\, V3Y 2E9\, Canada
ATTACH;FMTTYPE=image/jpeg:https://foamersfolly.ca/wp-content/uploads/2023/01/327391277_3356732067982597_5466787340285710940_n.jpeg
ORGANIZER;CN="IQ 2000 Trivia":MAILTO:creative@foamersfolly.ca
END:VEVENT
BEGIN:VEVENT
DTSTART;TZID=UTC:20261110T190000
DTEND;TZID=UTC:20261110T203000
DTSTAMP:20260421T085902
CREATED:20241126T223223Z
LAST-MODIFIED:20251110T213558Z
UID:10001030-1794337200-1794342600@foamersfolly.ca
SUMMARY:Trivia Tuesday
DESCRIPTION:We are excited to present Trivia Tuesdays hosted by IQ 2000 Trivia! Every Tuesday from 7:00pm – 8:30pm come and play for your chance to win gift cards\, merchandise\, and other cool prizes!
URL:https://foamersfolly.ca/event/trivia-tuesday-42-2-2/2026-11-10/
LOCATION:Foamers’ Folly Brewing Co.\, 19221 122a Ave.\, Pitt Meadows\, BC\, V3Y 2E9\, Canada
ATTACH;FMTTYPE=image/jpeg:https://foamersfolly.ca/wp-content/uploads/2023/01/327391277_3356732067982597_5466787340285710940_n.jpeg
ORGANIZER;CN="IQ 2000 Trivia":MAILTO:creative@foamersfolly.ca
END:VEVENT
BEGIN:VEVENT
DTSTART;TZID=UTC:20261117T190000
DTEND;TZID=UTC:20261117T203000
DTSTAMP:20260421T085902
CREATED:20241126T223223Z
LAST-MODIFIED:20251110T213558Z
UID:10001031-1794942000-1794947400@foamersfolly.ca
SUMMARY:Trivia Tuesday
DESCRIPTION:We are excited to present Trivia Tuesdays hosted by IQ 2000 Trivia! Every Tuesday from 7:00pm – 8:30pm come and play for your chance to win gift cards\, merchandise\, and other cool prizes!
URL:https://foamersfolly.ca/event/trivia-tuesday-42-2-2/2026-11-17/
LOCATION:Foamers’ Folly Brewing Co.\, 19221 122a Ave.\, Pitt Meadows\, BC\, V3Y 2E9\, Canada
ATTACH;FMTTYPE=image/jpeg:https://foamersfolly.ca/wp-content/uploads/2023/01/327391277_3356732067982597_5466787340285710940_n.jpeg
ORGANIZER;CN="IQ 2000 Trivia":MAILTO:creative@foamersfolly.ca
END:VEVENT
BEGIN:VEVENT
DTSTART;TZID=UTC:20261124T190000
DTEND;TZID=UTC:20261124T203000
DTSTAMP:20260421T085902
CREATED:20241126T223223Z
LAST-MODIFIED:20251110T213558Z
UID:10001032-1795546800-1795552200@foamersfolly.ca
SUMMARY:Trivia Tuesday
DESCRIPTION:We are excited to present Trivia Tuesdays hosted by IQ 2000 Trivia! Every Tuesday from 7:00pm – 8:30pm come and play for your chance to win gift cards\, merchandise\, and other cool prizes!
URL:https://foamersfolly.ca/event/trivia-tuesday-42-2-2/2026-11-24/
LOCATION:Foamers’ Folly Brewing Co.\, 19221 122a Ave.\, Pitt Meadows\, BC\, V3Y 2E9\, Canada
ATTACH;FMTTYPE=image/jpeg:https://foamersfolly.ca/wp-content/uploads/2023/01/327391277_3356732067982597_5466787340285710940_n.jpeg
ORGANIZER;CN="IQ 2000 Trivia":MAILTO:creative@foamersfolly.ca
END:VEVENT
BEGIN:VEVENT
DTSTART;TZID=UTC:20261201T190000
DTEND;TZID=UTC:20261201T203000
DTSTAMP:20260421T085902
CREATED:20241126T223223Z
LAST-MODIFIED:20251110T213558Z
UID:10001033-1796151600-1796157000@foamersfolly.ca
SUMMARY:Trivia Tuesday
DESCRIPTION:We are excited to present Trivia Tuesdays hosted by IQ 2000 Trivia! Every Tuesday from 7:00pm – 8:30pm come and play for your chance to win gift cards\, merchandise\, and other cool prizes!
URL:https://foamersfolly.ca/event/trivia-tuesday-42-2-2/2026-12-01/
LOCATION:Foamers’ Folly Brewing Co.\, 19221 122a Ave.\, Pitt Meadows\, BC\, V3Y 2E9\, Canada
ATTACH;FMTTYPE=image/jpeg:https://foamersfolly.ca/wp-content/uploads/2023/01/327391277_3356732067982597_5466787340285710940_n.jpeg
ORGANIZER;CN="IQ 2000 Trivia":MAILTO:creative@foamersfolly.ca
END:VEVENT
BEGIN:VEVENT
DTSTART;TZID=UTC:20261208T190000
DTEND;TZID=UTC:20261208T203000
DTSTAMP:20260421T085902
CREATED:20241126T223223Z
LAST-MODIFIED:20251110T213558Z
UID:10001034-1796756400-1796761800@foamersfolly.ca
SUMMARY:Trivia Tuesday
DESCRIPTION:We are excited to present Trivia Tuesdays hosted by IQ 2000 Trivia! Every Tuesday from 7:00pm – 8:30pm come and play for your chance to win gift cards\, merchandise\, and other cool prizes!
URL:https://foamersfolly.ca/event/trivia-tuesday-42-2-2/2026-12-08/
LOCATION:Foamers’ Folly Brewing Co.\, 19221 122a Ave.\, Pitt Meadows\, BC\, V3Y 2E9\, Canada
ATTACH;FMTTYPE=image/jpeg:https://foamersfolly.ca/wp-content/uploads/2023/01/327391277_3356732067982597_5466787340285710940_n.jpeg
ORGANIZER;CN="IQ 2000 Trivia":MAILTO:creative@foamersfolly.ca
END:VEVENT
BEGIN:VEVENT
DTSTART;TZID=UTC:20261215T190000
DTEND;TZID=UTC:20261215T203000
DTSTAMP:20260421T085902
CREATED:20241126T223223Z
LAST-MODIFIED:20251110T213558Z
UID:10001035-1797361200-1797366600@foamersfolly.ca
SUMMARY:Trivia Tuesday
DESCRIPTION:We are excited to present Trivia Tuesdays hosted by IQ 2000 Trivia! Every Tuesday from 7:00pm – 8:30pm come and play for your chance to win gift cards\, merchandise\, and other cool prizes!
URL:https://foamersfolly.ca/event/trivia-tuesday-42-2-2/2026-12-15/
LOCATION:Foamers’ Folly Brewing Co.\, 19221 122a Ave.\, Pitt Meadows\, BC\, V3Y 2E9\, Canada
ATTACH;FMTTYPE=image/jpeg:https://foamersfolly.ca/wp-content/uploads/2023/01/327391277_3356732067982597_5466787340285710940_n.jpeg
ORGANIZER;CN="IQ 2000 Trivia":MAILTO:creative@foamersfolly.ca
END:VEVENT
BEGIN:VEVENT
DTSTART;TZID=UTC:20261222T190000
DTEND;TZID=UTC:20261222T203000
DTSTAMP:20260421T085903
CREATED:20241126T223223Z
LAST-MODIFIED:20251110T213558Z
UID:10001036-1797966000-1797971400@foamersfolly.ca
SUMMARY:Trivia Tuesday
DESCRIPTION:We are excited to present Trivia Tuesdays hosted by IQ 2000 Trivia! Every Tuesday from 7:00pm – 8:30pm come and play for your chance to win gift cards\, merchandise\, and other cool prizes!
URL:https://foamersfolly.ca/event/trivia-tuesday-42-2-2/2026-12-22/
LOCATION:Foamers’ Folly Brewing Co.\, 19221 122a Ave.\, Pitt Meadows\, BC\, V3Y 2E9\, Canada
ATTACH;FMTTYPE=image/jpeg:https://foamersfolly.ca/wp-content/uploads/2023/01/327391277_3356732067982597_5466787340285710940_n.jpeg
ORGANIZER;CN="IQ 2000 Trivia":MAILTO:creative@foamersfolly.ca
END:VEVENT
BEGIN:VEVENT
DTSTART;TZID=UTC:20261229T190000
DTEND;TZID=UTC:20261229T203000
DTSTAMP:20260421T085903
CREATED:20241126T223223Z
LAST-MODIFIED:20251110T213558Z
UID:10001037-1798570800-1798576200@foamersfolly.ca
SUMMARY:Trivia Tuesday
DESCRIPTION:We are excited to present Trivia Tuesdays hosted by IQ 2000 Trivia! Every Tuesday from 7:00pm – 8:30pm come and play for your chance to win gift cards\, merchandise\, and other cool prizes!
URL:https://foamersfolly.ca/event/trivia-tuesday-42-2-2/2026-12-29/
LOCATION:Foamers’ Folly Brewing Co.\, 19221 122a Ave.\, Pitt Meadows\, BC\, V3Y 2E9\, Canada
ATTACH;FMTTYPE=image/jpeg:https://foamersfolly.ca/wp-content/uploads/2023/01/327391277_3356732067982597_5466787340285710940_n.jpeg
ORGANIZER;CN="IQ 2000 Trivia":MAILTO:creative@foamersfolly.ca
END:VEVENT
BEGIN:VEVENT
DTSTART;TZID=UTC:20270105T190000
DTEND;TZID=UTC:20270105T203000
DTSTAMP:20260421T085903
CREATED:20241126T223223Z
LAST-MODIFIED:20251110T213558Z
UID:10001038-1799175600-1799181000@foamersfolly.ca
SUMMARY:Trivia Tuesday
DESCRIPTION:We are excited to present Trivia Tuesdays hosted by IQ 2000 Trivia! Every Tuesday from 7:00pm – 8:30pm come and play for your chance to win gift cards\, merchandise\, and other cool prizes!
URL:https://foamersfolly.ca/event/trivia-tuesday-42-2-2/2027-01-05/
LOCATION:Foamers’ Folly Brewing Co.\, 19221 122a Ave.\, Pitt Meadows\, BC\, V3Y 2E9\, Canada
ATTACH;FMTTYPE=image/jpeg:https://foamersfolly.ca/wp-content/uploads/2023/01/327391277_3356732067982597_5466787340285710940_n.jpeg
ORGANIZER;CN="IQ 2000 Trivia":MAILTO:creative@foamersfolly.ca
END:VEVENT
BEGIN:VEVENT
DTSTART;TZID=UTC:20270112T190000
DTEND;TZID=UTC:20270112T203000
DTSTAMP:20260421T085903
CREATED:20241126T223223Z
LAST-MODIFIED:20251110T213558Z
UID:10001039-1799780400-1799785800@foamersfolly.ca
SUMMARY:Trivia Tuesday
DESCRIPTION:We are excited to present Trivia Tuesdays hosted by IQ 2000 Trivia! Every Tuesday from 7:00pm – 8:30pm come and play for your chance to win gift cards\, merchandise\, and other cool prizes!
URL:https://foamersfolly.ca/event/trivia-tuesday-42-2-2/2027-01-12/
LOCATION:Foamers’ Folly Brewing Co.\, 19221 122a Ave.\, Pitt Meadows\, BC\, V3Y 2E9\, Canada
ATTACH;FMTTYPE=image/jpeg:https://foamersfolly.ca/wp-content/uploads/2023/01/327391277_3356732067982597_5466787340285710940_n.jpeg
ORGANIZER;CN="IQ 2000 Trivia":MAILTO:creative@foamersfolly.ca
END:VEVENT
BEGIN:VEVENT
DTSTART;TZID=UTC:20270119T190000
DTEND;TZID=UTC:20270119T203000
DTSTAMP:20260421T085903
CREATED:20241126T223223Z
LAST-MODIFIED:20251110T213558Z
UID:10001040-1800385200-1800390600@foamersfolly.ca
SUMMARY:Trivia Tuesday
DESCRIPTION:We are excited to present Trivia Tuesdays hosted by IQ 2000 Trivia! Every Tuesday from 7:00pm – 8:30pm come and play for your chance to win gift cards\, merchandise\, and other cool prizes!
URL:https://foamersfolly.ca/event/trivia-tuesday-42-2-2/2027-01-19/
LOCATION:Foamers’ Folly Brewing Co.\, 19221 122a Ave.\, Pitt Meadows\, BC\, V3Y 2E9\, Canada
ATTACH;FMTTYPE=image/jpeg:https://foamersfolly.ca/wp-content/uploads/2023/01/327391277_3356732067982597_5466787340285710940_n.jpeg
ORGANIZER;CN="IQ 2000 Trivia":MAILTO:creative@foamersfolly.ca
END:VEVENT
BEGIN:VEVENT
DTSTART;TZID=UTC:20270126T190000
DTEND;TZID=UTC:20270126T203000
DTSTAMP:20260421T085903
CREATED:20241126T223223Z
LAST-MODIFIED:20251110T213558Z
UID:10001041-1800990000-1800995400@foamersfolly.ca
SUMMARY:Trivia Tuesday
DESCRIPTION:We are excited to present Trivia Tuesdays hosted by IQ 2000 Trivia! Every Tuesday from 7:00pm – 8:30pm come and play for your chance to win gift cards\, merchandise\, and other cool prizes!
URL:https://foamersfolly.ca/event/trivia-tuesday-42-2-2/2027-01-26/
LOCATION:Foamers’ Folly Brewing Co.\, 19221 122a Ave.\, Pitt Meadows\, BC\, V3Y 2E9\, Canada
ATTACH;FMTTYPE=image/jpeg:https://foamersfolly.ca/wp-content/uploads/2023/01/327391277_3356732067982597_5466787340285710940_n.jpeg
ORGANIZER;CN="IQ 2000 Trivia":MAILTO:creative@foamersfolly.ca
END:VEVENT
BEGIN:VEVENT
DTSTART;TZID=UTC:20270202T190000
DTEND;TZID=UTC:20270202T203000
DTSTAMP:20260421T085903
CREATED:20241126T223223Z
LAST-MODIFIED:20251110T213558Z
UID:10001042-1801594800-1801600200@foamersfolly.ca
SUMMARY:Trivia Tuesday
DESCRIPTION:We are excited to present Trivia Tuesdays hosted by IQ 2000 Trivia! Every Tuesday from 7:00pm – 8:30pm come and play for your chance to win gift cards\, merchandise\, and other cool prizes!
URL:https://foamersfolly.ca/event/trivia-tuesday-42-2-2/2027-02-02/
LOCATION:Foamers’ Folly Brewing Co.\, 19221 122a Ave.\, Pitt Meadows\, BC\, V3Y 2E9\, Canada
ATTACH;FMTTYPE=image/jpeg:https://foamersfolly.ca/wp-content/uploads/2023/01/327391277_3356732067982597_5466787340285710940_n.jpeg
ORGANIZER;CN="IQ 2000 Trivia":MAILTO:creative@foamersfolly.ca
END:VEVENT
END:VCALENDAR