BEGIN:VCALENDAR
VERSION:2.0
PRODID:-//Foamers&#039; Folly Brewing Co. - ECPv6.15.20//NONSGML v1.0//EN
CALSCALE:GREGORIAN
METHOD:PUBLISH
X-WR-CALNAME:Foamers&#039; Folly Brewing Co.
X-ORIGINAL-URL:https://foamersfolly.ca
X-WR-CALDESC:Events for Foamers&#039; Folly Brewing Co.
REFRESH-INTERVAL;VALUE=DURATION:PT1H
X-Robots-Tag:noindex
X-PUBLISHED-TTL:PT1H
BEGIN:VTIMEZONE
TZID:UTC
BEGIN:STANDARD
TZOFFSETFROM:+0000
TZOFFSETTO:+0000
TZNAME:UTC
DTSTART:20230101T000000
END:STANDARD
END:VTIMEZONE
BEGIN:VEVENT
DTSTART;VALUE=DATE:20241209
DTEND;VALUE=DATE:20241210
DTSTAMP:20260422T165141
CREATED:20241122T233114Z
LAST-MODIFIED:20241123T002109Z
UID:10002243-1733702400-1733788799@foamersfolly.ca
SUMMARY:Dos Amigos Food Truck
DESCRIPTION:Dos Amigos food truck was started by childhood Amigos Dolten & Rionne\, After losing their jobs in the Restaurant industry to the pandemic both decided to take their culinary passion to the next level by investing into a food truck. \nBoth have more than a decade experience and expertise working in the Restaurant industry around the globe. Our focus has always been quality ingredients\, friendly service &  customer satisfaction
URL:https://foamersfolly.ca/event/dos-amigos-food-truck/
LOCATION:Foamers’ Folly Brewing Co.\, 19221 122a Ave.\, Pitt Meadows\, BC\, V3Y 2E9\, Canada
END:VEVENT
BEGIN:VEVENT
DTSTART;TZID=UTC:20241208T173000
DTEND;TZID=UTC:20241208T233000
DTSTAMP:20260422T165141
CREATED:20241122T232853Z
LAST-MODIFIED:20241122T232853Z
UID:10002242-1733679000-1733700600@foamersfolly.ca
SUMMARY:Closing Early - Staff Appreciation Christmas Party
DESCRIPTION:We are excited to celebrate our amazing staff on Sunday December 8! We will be doing last call at 5:30pm and will be closed to the public at 6pm. \nSorry for the inconvenience!
URL:https://foamersfolly.ca/event/closing-early-staff-appreciation-christmas-party/
LOCATION:Foamers’ Folly Brewing Co.\, 19221 122a Ave.\, Pitt Meadows\, BC\, V3Y 2E9\, Canada
END:VEVENT
BEGIN:VEVENT
DTSTART;TZID=UTC:20241205T183000
DTEND;TZID=UTC:20241205T203000
DTSTAMP:20260422T165141
CREATED:20241122T232102Z
LAST-MODIFIED:20241122T232123Z
UID:10002239-1733423400-1733430600@foamersfolly.ca
SUMMARY:Paint & Sip Night - Christmas Porch Leaner
DESCRIPTION:Unleash your inner artist at our Paint and Sip Night! Join us for an evening of creativity and craft beer as you paint your masterpiece while enjoying a beverage. Whether you’re a seasoned Picasso or a complete novice\, our talented instructors will guide you step by step and provide all the materials you need to craft your own work of art! \n*PLEASE EMAIL ecanvasparty@gmail.com TO RESERVE YOUR SPOT!*
URL:https://foamersfolly.ca/event/paint-sip-night-christmas-porch-leaner/
LOCATION:Foamers’ Folly Brewing Co.\, 19221 122a Ave.\, Pitt Meadows\, BC\, V3Y 2E9\, Canada
END:VEVENT
BEGIN:VEVENT
DTSTART;TZID=UTC:20241205T180000
DTEND;TZID=UTC:20241205T210000
DTSTAMP:20260422T165141
CREATED:20241021T222029Z
LAST-MODIFIED:20250909T162515Z
UID:10002237-1733421600-1733432400@foamersfolly.ca
SUMMARY:LIVE MUSIC: Steven Marriott
DESCRIPTION:Using carefully crafted songs with vivid imagery and subtle wit\, Steven uses his music to tell stories\, and create a shared experience with the listener. Hailing from the west coast of Canada\, Steven Marriott is a singer/songwriter whose live performance never ceases to get people smiling and singing along. It’s hard to put a specific genre label on his music\, but if the Barenaked Ladies adopted Jason Mraz\, and invited the Goo Goo Dolls over for a backyard weenie roast\, they might bust out the guitars and cover Steven’s music around the campfire.
URL:https://foamersfolly.ca/event/live-music-steven-marriott-2/2024-12-05/
LOCATION:Foamers’ Folly Brewing Co.\, 19221 122a Ave.\, Pitt Meadows\, BC\, V3Y 2E9\, Canada
ATTACH;FMTTYPE=image/jpeg:https://foamersfolly.ca/wp-content/uploads/2024/09/KatieCookPhotography-3302.jpg
END:VEVENT
BEGIN:VEVENT
DTSTART;TZID=UTC:20241203T190000
DTEND;TZID=UTC:20241203T203000
DTSTAMP:20260422T165141
CREATED:20241126T223223Z
LAST-MODIFIED:20251110T213558Z
UID:10002289-1733252400-1733257800@foamersfolly.ca
SUMMARY:Trivia Tuesday
DESCRIPTION:We are excited to present Trivia Tuesdays hosted by IQ 2000 Trivia! Every Tuesday from 7:00pm – 8:30pm come and play for your chance to win gift cards\, merchandise\, and other cool prizes!
URL:https://foamersfolly.ca/event/trivia-tuesday-42-2-2/2024-12-03/
LOCATION:Foamers’ Folly Brewing Co.\, 19221 122a Ave.\, Pitt Meadows\, BC\, V3Y 2E9\, Canada
ATTACH;FMTTYPE=image/jpeg:https://foamersfolly.ca/wp-content/uploads/2023/01/327391277_3356732067982597_5466787340285710940_n.jpeg
ORGANIZER;CN="IQ 2000 Trivia":MAILTO:creative@foamersfolly.ca
END:VEVENT
BEGIN:VEVENT
DTSTART;TZID=UTC:20241130T183000
DTEND;TZID=UTC:20241130T203000
DTSTAMP:20260422T165141
CREATED:20241021T222405Z
LAST-MODIFIED:20241122T231900Z
UID:10002238-1732991400-1732998600@foamersfolly.ca
SUMMARY:Paint & Sip Night
DESCRIPTION:Unleash your inner artist at our Paint and Sip Night! Join us for an evening of creativity and craft beer as you paint your masterpiece while enjoying a beverage. Whether you’re a seasoned Picasso or a complete novice\, our talented instructors will guide you step by step and provide all the materials you need to craft your own work of art! \n*PLEASE EMAIL ecanvasparty@gmail.com TO RESERVE YOUR SPOT!*
URL:https://foamersfolly.ca/event/paint-sip-night/2024-11-30/
LOCATION:Foamers’ Folly Brewing Co.\, 19221 122a Ave.\, Pitt Meadows\, BC\, V3Y 2E9\, Canada
END:VEVENT
BEGIN:VEVENT
DTSTART;TZID=UTC:20241128T183000
DTEND;TZID=UTC:20241128T203000
DTSTAMP:20260422T165141
CREATED:20241122T232621Z
LAST-MODIFIED:20241122T232621Z
UID:10002241-1732818600-1732825800@foamersfolly.ca
SUMMARY:Wreath-Making Workshop
DESCRIPTION:Add holiday cheer to your front door with a custom-designed fresh holiday wreath. In this workshop\, you will get together with other like-minded individuals from your community to drink beer and decorate a fresh\, festive holiday wreath that will be a seasonal expression of YOU.  \nWreath-making supplies included: \n– fresh 20” noble fir wreath \n– variegated holly \n– red ilex berries \n– variegated boxwood \n– fresh pinecones
URL:https://foamersfolly.ca/event/wreath-making-workshop/
LOCATION:Foamers’ Folly Brewing Co.\, 19221 122a Ave.\, Pitt Meadows\, BC\, V3Y 2E9\, Canada
END:VEVENT
BEGIN:VEVENT
DTSTART;TZID=UTC:20241126T190000
DTEND;TZID=UTC:20241126T203000
DTSTAMP:20260422T165141
CREATED:20241126T223223Z
LAST-MODIFIED:20251110T213558Z
UID:10002288-1732647600-1732653000@foamersfolly.ca
SUMMARY:Trivia Tuesday
DESCRIPTION:We are excited to present Trivia Tuesdays hosted by IQ 2000 Trivia! Every Tuesday from 7:00pm – 8:30pm come and play for your chance to win gift cards\, merchandise\, and other cool prizes!
URL:https://foamersfolly.ca/event/trivia-tuesday-42-2-2/2024-11-26/
LOCATION:Foamers’ Folly Brewing Co.\, 19221 122a Ave.\, Pitt Meadows\, BC\, V3Y 2E9\, Canada
ATTACH;FMTTYPE=image/jpeg:https://foamersfolly.ca/wp-content/uploads/2023/01/327391277_3356732067982597_5466787340285710940_n.jpeg
ORGANIZER;CN="IQ 2000 Trivia":MAILTO:creative@foamersfolly.ca
END:VEVENT
BEGIN:VEVENT
DTSTART;TZID=UTC:20241121T180000
DTEND;TZID=UTC:20241121T210000
DTSTAMP:20260422T165141
CREATED:20241021T222235Z
LAST-MODIFIED:20250430T182104Z
UID:10002234-1732212000-1732222800@foamersfolly.ca
SUMMARY:LIVE MUSIC: Nathan Sobko
DESCRIPTION:Nathan Sobko is a Vancouver Island based multi-instrumentalist\, singer-songwriter who expresses a multitude of tones and textures progressively in the genres of folk\, rock\, and blues. His lively rhythms\, poetic lyrics\, and catchy choruses will have you “humming the tunes as you go about your day.”
URL:https://foamersfolly.ca/event/live-music-nathan-sobko/2024-11-21/
LOCATION:Foamers’ Folly Brewing Co.\, 19221 122a Ave.\, Pitt Meadows\, BC\, V3Y 2E9\, Canada
ATTACH;FMTTYPE=image/jpeg:https://foamersfolly.ca/wp-content/uploads/2024/10/Sobko.jpg
END:VEVENT
BEGIN:VEVENT
DTSTART;TZID=UTC:20241120T190000
DTEND;TZID=UTC:20241120T210000
DTSTAMP:20260422T165141
CREATED:20241021T222405Z
LAST-MODIFIED:20241122T231900Z
UID:10002235-1732129200-1732136400@foamersfolly.ca
SUMMARY:Paint & Sip Night
DESCRIPTION:Unleash your inner artist at our Paint and Sip Night! Join us for an evening of creativity and craft beer as you paint your masterpiece while enjoying a beverage. Whether you’re a seasoned Picasso or a complete novice\, our talented instructors will guide you step by step and provide all the materials you need to craft your own work of art! \n*PLEASE EMAIL ecanvasparty@gmail.com TO RESERVE YOUR SPOT!*
URL:https://foamersfolly.ca/event/paint-sip-night/2024-11-20/
LOCATION:Foamers’ Folly Brewing Co.\, 19221 122a Ave.\, Pitt Meadows\, BC\, V3Y 2E9\, Canada
END:VEVENT
BEGIN:VEVENT
DTSTART;TZID=UTC:20241119T190000
DTEND;TZID=UTC:20241119T203000
DTSTAMP:20260422T165141
CREATED:20240926T155644Z
LAST-MODIFIED:20240926T225130Z
UID:10000927-1732042800-1732048200@foamersfolly.ca
SUMMARY:Trivia Tuesday
DESCRIPTION:We are excited to present Trivia Tuesdays hosted by IQ 2000 Trivia! Every Tuesday from 7:00pm – 8:30pm come and play for your chance to win gift cards\, merchandise\, and other cool prizes!
URL:https://foamersfolly.ca/event/trivia-tuesday-42/2024-11-19/
LOCATION:Foamers’ Folly Brewing Co.\, 19221 122a Ave.\, Pitt Meadows\, BC\, V3Y 2E9\, Canada
ATTACH;FMTTYPE=image/jpeg:https://foamersfolly.ca/wp-content/uploads/2023/01/327391277_3356732067982597_5466787340285710940_n.jpeg
ORGANIZER;CN="IQ 2000 Trivia":MAILTO:creative@foamersfolly.ca
END:VEVENT
BEGIN:VEVENT
DTSTART;TZID=UTC:20241117T190000
DTEND;TZID=UTC:20241117T210000
DTSTAMP:20260422T165141
CREATED:20241021T222702Z
LAST-MODIFIED:20241021T222702Z
UID:10002236-1731870000-1731877200@foamersfolly.ca
SUMMARY:Swipe Right - A Comedy Show about Dating
DESCRIPTION:Swipe Right is a stand-up comedy show that regularly features comedians from CBC\, The Debaters\, Netflix and Just For Laughs!
URL:https://foamersfolly.ca/event/swipe-right-a-comedy-show-about-dating/
LOCATION:Foamers’ Folly Brewing Co.\, 19221 122a Ave.\, Pitt Meadows\, BC\, V3Y 2E9\, Canada
END:VEVENT
BEGIN:VEVENT
DTSTART;TZID=UTC:20241114T180000
DTEND;TZID=UTC:20241114T210000
DTSTAMP:20260422T165141
CREATED:20241021T222029Z
LAST-MODIFIED:20250909T162515Z
UID:10002233-1731607200-1731618000@foamersfolly.ca
SUMMARY:LIVE MUSIC: Steven Marriott
DESCRIPTION:Using carefully crafted songs with vivid imagery and subtle wit\, Steven uses his music to tell stories\, and create a shared experience with the listener. Hailing from the west coast of Canada\, Steven Marriott is a singer/songwriter whose live performance never ceases to get people smiling and singing along. It’s hard to put a specific genre label on his music\, but if the Barenaked Ladies adopted Jason Mraz\, and invited the Goo Goo Dolls over for a backyard weenie roast\, they might bust out the guitars and cover Steven’s music around the campfire.
URL:https://foamersfolly.ca/event/live-music-steven-marriott-2/2024-11-14/
LOCATION:Foamers’ Folly Brewing Co.\, 19221 122a Ave.\, Pitt Meadows\, BC\, V3Y 2E9\, Canada
ATTACH;FMTTYPE=image/jpeg:https://foamersfolly.ca/wp-content/uploads/2024/09/KatieCookPhotography-3302.jpg
END:VEVENT
BEGIN:VEVENT
DTSTART;TZID=UTC:20241112T190000
DTEND;TZID=UTC:20241112T203000
DTSTAMP:20260422T165141
CREATED:20240926T155644Z
LAST-MODIFIED:20240926T225130Z
UID:10000926-1731438000-1731443400@foamersfolly.ca
SUMMARY:Trivia Tuesday
DESCRIPTION:We are excited to present Trivia Tuesdays hosted by IQ 2000 Trivia! Every Tuesday from 7:00pm – 8:30pm come and play for your chance to win gift cards\, merchandise\, and other cool prizes!
URL:https://foamersfolly.ca/event/trivia-tuesday-42/2024-11-12/
LOCATION:Foamers’ Folly Brewing Co.\, 19221 122a Ave.\, Pitt Meadows\, BC\, V3Y 2E9\, Canada
ATTACH;FMTTYPE=image/jpeg:https://foamersfolly.ca/wp-content/uploads/2023/01/327391277_3356732067982597_5466787340285710940_n.jpeg
ORGANIZER;CN="IQ 2000 Trivia":MAILTO:creative@foamersfolly.ca
END:VEVENT
BEGIN:VEVENT
DTSTART;TZID=UTC:20241107T180000
DTEND;TZID=UTC:20241107T210000
DTSTAMP:20260422T165141
CREATED:20241021T221854Z
LAST-MODIFIED:20260305T172829Z
UID:10002232-1731002400-1731013200@foamersfolly.ca
SUMMARY:LIVE MUSIC: Mickey Magennis
DESCRIPTION:Mickey Magennis is an Irish solo act/one-man-band regularly performing in the lower mainland.  His genres include are soft rock\, folk rock\, country\, blues\, and R&B as well as the Irish pub favourites of course. It’s a wide-ranging repertoire with a good mix of well-known crowd pleasing songs. 
URL:https://foamersfolly.ca/event/live-music-mickey-magennis/2024-11-07/
LOCATION:Foamers’ Folly Brewing Co.\, 19221 122a Ave.\, Pitt Meadows\, BC\, V3Y 2E9\, Canada
ATTACH;FMTTYPE=image/png:https://foamersfolly.ca/wp-content/uploads/2024/10/unnamed-2.png
END:VEVENT
BEGIN:VEVENT
DTSTART;TZID=UTC:20241105T190000
DTEND;TZID=UTC:20241105T203000
DTSTAMP:20260422T165141
CREATED:20240926T155644Z
LAST-MODIFIED:20240926T225130Z
UID:10000925-1730833200-1730838600@foamersfolly.ca
SUMMARY:Trivia Tuesday
DESCRIPTION:We are excited to present Trivia Tuesdays hosted by IQ 2000 Trivia! Every Tuesday from 7:00pm – 8:30pm come and play for your chance to win gift cards\, merchandise\, and other cool prizes!
URL:https://foamersfolly.ca/event/trivia-tuesday-42/2024-11-05/
LOCATION:Foamers’ Folly Brewing Co.\, 19221 122a Ave.\, Pitt Meadows\, BC\, V3Y 2E9\, Canada
ATTACH;FMTTYPE=image/jpeg:https://foamersfolly.ca/wp-content/uploads/2023/01/327391277_3356732067982597_5466787340285710940_n.jpeg
ORGANIZER;CN="IQ 2000 Trivia":MAILTO:creative@foamersfolly.ca
END:VEVENT
BEGIN:VEVENT
DTSTART;TZID=UTC:20241029T190000
DTEND;TZID=UTC:20241029T203000
DTSTAMP:20260422T165141
CREATED:20240926T155644Z
LAST-MODIFIED:20240926T225130Z
UID:10000924-1730228400-1730233800@foamersfolly.ca
SUMMARY:Trivia Tuesday
DESCRIPTION:We are excited to present Trivia Tuesdays hosted by IQ 2000 Trivia! Every Tuesday from 7:00pm – 8:30pm come and play for your chance to win gift cards\, merchandise\, and other cool prizes!
URL:https://foamersfolly.ca/event/trivia-tuesday-42/2024-10-29/
LOCATION:Foamers’ Folly Brewing Co.\, 19221 122a Ave.\, Pitt Meadows\, BC\, V3Y 2E9\, Canada
ATTACH;FMTTYPE=image/jpeg:https://foamersfolly.ca/wp-content/uploads/2023/01/327391277_3356732067982597_5466787340285710940_n.jpeg
ORGANIZER;CN="IQ 2000 Trivia":MAILTO:creative@foamersfolly.ca
END:VEVENT
BEGIN:VEVENT
DTSTART;TZID=UTC:20241027T190000
DTEND;TZID=UTC:20241027T220000
DTSTAMP:20260422T165141
CREATED:20240926T163046Z
LAST-MODIFIED:20240926T163046Z
UID:10000133-1730055600-1730066400@foamersfolly.ca
SUMMARY:The Real Happy Hour - Detour: Pitt Meadows
DESCRIPTION:You’ve heard of Happy Hour\, but have you heard of The Real Happy Hour? We’re coming to you to celebrate pride\, Pitt Meadows!
URL:https://foamersfolly.ca/event/the-real-happy-hour-detour-pitt-meadows/
LOCATION:Foamers’ Folly Brewing Co.\, 19221 122a Ave.\, Pitt Meadows\, BC\, V3Y 2E9\, Canada
ORGANIZER;CN="IQ 2000 Trivia":MAILTO:creative@foamersfolly.ca
END:VEVENT
BEGIN:VEVENT
DTSTART;TZID=UTC:20241024T180000
DTEND;TZID=UTC:20241024T210000
DTSTAMP:20260422T165141
CREATED:20241001T203927Z
LAST-MODIFIED:20250425T160033Z
UID:10002230-1729792800-1729803600@foamersfolly.ca
SUMMARY:LIVE MUSIC: Ranj Singh
DESCRIPTION:Ranj Singh makes music with a distinct Indian-Western flair that draws on the singer-songwriter’s love for rock music and heartfelt lyrics. He refers to his unique blend of music as “Indo-Canadian Folk”.In the mid 80’s\, Ranj started his career performing with many Punjabi and Hindi folk artists in the Vancouver area.In the 90’s he helped form the influential and critically acclaimed “Bhangra Rock” group Dal Dil Vog (a.k.a. DDV). The group went on to win numerous awards and shared the stage with artists such as Jan Arden\, 54-40\, Colin James\, and Mathew Good. DDV’s unique style of bhangra / rock music led to tours throughout North America and India\, live performances on MuchMusic\, 3 videos on MuchMusic\, and one on MTV Asia.Lately Ranj has been working hard performing over 200 shows a year as a solo artist and has opened for Honeymoon Suite\, and shared the stage with many award-winning artists. With a very unique voice and accompanied by his 12-string guitar\, Ranj’s genre of Indo-Folk Music is melodic and soothing. It is a combination of subtle Indian melodies with Western Folk and classic covers. With 3 albums under his belt\, Ranj is at the top of his game.
URL:https://foamersfolly.ca/event/live-music-ranj-singh/2024-10-24/
LOCATION:Foamers’ Folly Brewing Co.\, 19221 122a Ave.\, Pitt Meadows\, BC\, V3Y 2E9\, Canada
ATTACH;FMTTYPE=image/jpeg:https://foamersfolly.ca/wp-content/uploads/2024/10/Ranj-SIngh.jpg
END:VEVENT
BEGIN:VEVENT
DTSTART;TZID=UTC:20241023T190000
DTEND;TZID=UTC:20241023T210000
DTSTAMP:20260422T165141
CREATED:20241003T163911Z
LAST-MODIFIED:20241003T185715Z
UID:10002231-1729710000-1729717200@foamersfolly.ca
SUMMARY:Paint and Sip Night
DESCRIPTION:Unleash your inner artist at our Paint and Sip Night on October 23! Join us for an evening of creativity and craft beer as you paint your masterpiece while enjoying a beverage. Whether you’re a seasoned Picasso or a complete novice\, our talented instructors will guide you step by step and provide all the materials you need to craft your own work of art! \n*PLEASE EMAIL ecanvasparty@gmail.com TO RESERVE YOUR SPOT!*
URL:https://foamersfolly.ca/event/paint-and-sip-night/
LOCATION:Foamers’ Folly Brewing Co.\, 19221 122a Ave.\, Pitt Meadows\, BC\, V3Y 2E9\, Canada
END:VEVENT
BEGIN:VEVENT
DTSTART;TZID=UTC:20241022T190000
DTEND;TZID=UTC:20241022T203000
DTSTAMP:20260422T165141
CREATED:20240926T155644Z
LAST-MODIFIED:20240926T225130Z
UID:10000923-1729623600-1729629000@foamersfolly.ca
SUMMARY:Trivia Tuesday
DESCRIPTION:We are excited to present Trivia Tuesdays hosted by IQ 2000 Trivia! Every Tuesday from 7:00pm – 8:30pm come and play for your chance to win gift cards\, merchandise\, and other cool prizes!
URL:https://foamersfolly.ca/event/trivia-tuesday-42/2024-10-22/
LOCATION:Foamers’ Folly Brewing Co.\, 19221 122a Ave.\, Pitt Meadows\, BC\, V3Y 2E9\, Canada
ATTACH;FMTTYPE=image/jpeg:https://foamersfolly.ca/wp-content/uploads/2023/01/327391277_3356732067982597_5466787340285710940_n.jpeg
ORGANIZER;CN="IQ 2000 Trivia":MAILTO:creative@foamersfolly.ca
END:VEVENT
BEGIN:VEVENT
DTSTART;TZID=UTC:20241017T180000
DTEND;TZID=UTC:20241017T210000
DTSTAMP:20260422T165141
CREATED:20240927T221806Z
LAST-MODIFIED:20251205T181523Z
UID:10002227-1729188000-1729198800@foamersfolly.ca
SUMMARY:LIVE MUSIC: Steve Halfnights
DESCRIPTION:Steve Halfnights is a performing/recording artist and song writer who has been active on the Vancouver music scene for the past 25 years.  Throughout that time\, he has performed as both a guitarist and bassist in the original music acts Uncle Nestor and Shakamoraine.  Both bands played regularly around town\, including high-profile venues such as The Roxy\, The Town Pump\, and Studebakers.  Along the way\, he was a part of recording three full-length albums with those bands.  Recently\, one of Steve’s original songs\, Mercedes Bends\, was chosen to be in the film Blackway\, starring Anthony Hopkins and Ray Liotta\, which currently airs on Netflix. \n\n\n\n\nAs time moved on\, Steve began performing less with larger bands\, and focused more on playing acoustic cover music both as a solo artist and with his duo group\, Almost Famous.  These two projects keep Steve busy playing several times per month at pubs\, conventions\, weddings\, and other special events throughout the Lower Mainland\, Vancouver Island\, and Whistler.  Steve’s solo acoustic repertoire is not defined by genre or time\, ranging from rock\, to pop\, to country\, and includes artists from Prince\, to Pearl Jam\, and so many more.  With his captivating and genuine performance style\, Steve engages the crowd in any room and leaves them wanting more. \nDuring the daytime\, Steve can be found teaching music (guitar and School of Rock) as well as Biology at a local high school\, helping to pass the love of music onto the next generation of musicians!
URL:https://foamersfolly.ca/event/live-music-steve-halfnights/2024-10-17/
LOCATION:Foamers’ Folly Brewing Co.\, 19221 122a Ave.\, Pitt Meadows\, BC\, V3Y 2E9\, Canada
ATTACH;FMTTYPE=image/jpeg:https://foamersfolly.ca/wp-content/uploads/2024/09/SteveHalfnights.jpg
END:VEVENT
BEGIN:VEVENT
DTSTART;TZID=UTC:20241015T190000
DTEND;TZID=UTC:20241015T203000
DTSTAMP:20260422T165141
CREATED:20240926T155644Z
LAST-MODIFIED:20240926T225130Z
UID:10000922-1729018800-1729024200@foamersfolly.ca
SUMMARY:Trivia Tuesday
DESCRIPTION:We are excited to present Trivia Tuesdays hosted by IQ 2000 Trivia! Every Tuesday from 7:00pm – 8:30pm come and play for your chance to win gift cards\, merchandise\, and other cool prizes!
URL:https://foamersfolly.ca/event/trivia-tuesday-42/2024-10-15/
LOCATION:Foamers’ Folly Brewing Co.\, 19221 122a Ave.\, Pitt Meadows\, BC\, V3Y 2E9\, Canada
ATTACH;FMTTYPE=image/jpeg:https://foamersfolly.ca/wp-content/uploads/2023/01/327391277_3356732067982597_5466787340285710940_n.jpeg
ORGANIZER;CN="IQ 2000 Trivia":MAILTO:creative@foamersfolly.ca
END:VEVENT
BEGIN:VEVENT
DTSTART;TZID=UTC:20241014T110000
DTEND;TZID=UTC:20241014T223000
DTSTAMP:20260422T165141
CREATED:20240926T224833Z
LAST-MODIFIED:20240926T224833Z
UID:10000920-1728903600-1728945000@foamersfolly.ca
SUMMARY:Thanksgiving - Regular Hours!
DESCRIPTION:Happy Thanksgiving! We are open from 11am – 10:30pm – hope to see you there!
URL:https://foamersfolly.ca/event/thanksgiving-regular-hours/
LOCATION:Foamers’ Folly Brewing Co.\, 19221 122a Ave.\, Pitt Meadows\, BC\, V3Y 2E9\, Canada
END:VEVENT
BEGIN:VEVENT
DTSTART;TZID=UTC:20241013T120000
DTEND;TZID=UTC:20241013T203000
DTSTAMP:20260422T165141
CREATED:20240926T224639Z
LAST-MODIFIED:20240927T051206Z
UID:10000919-1728820800-1728851400@foamersfolly.ca
SUMMARY:G's Donairs Food Truck
DESCRIPTION:G’s Donairs 
URL:https://foamersfolly.ca/event/gs-donairs-food-truck/2024-10-13/
LOCATION:Foamers’ Folly Brewing Co.\, 19221 122a Ave.\, Pitt Meadows\, BC\, V3Y 2E9\, Canada
END:VEVENT
BEGIN:VEVENT
DTSTART;TZID=UTC:20241012T130000
DTEND;TZID=UTC:20241012T200000
DTSTAMP:20260422T165141
CREATED:20240926T224639Z
LAST-MODIFIED:20240927T051206Z
UID:10002225-1728738000-1728763200@foamersfolly.ca
SUMMARY:G's Donairs Food Truck
DESCRIPTION:G’s Donairs 
URL:https://foamersfolly.ca/event/gs-donairs-food-truck/2024-10-12/
LOCATION:Foamers’ Folly Brewing Co.\, 19221 122a Ave.\, Pitt Meadows\, BC\, V3Y 2E9\, Canada
END:VEVENT
BEGIN:VEVENT
DTSTART;TZID=UTC:20241010T180000
DTEND;TZID=UTC:20241010T210000
DTSTAMP:20260422T165141
CREATED:20240927T052307Z
LAST-MODIFIED:20240927T221958Z
UID:10002226-1728583200-1728594000@foamersfolly.ca
SUMMARY:LIVE MUSIC: Steven Marriott
DESCRIPTION:Using carefully crafted songs with vivid imagery and subtle wit\, Steven uses his music to tell stories\, and create a shared experience with the listener. Hailing from the west coast of Canada\, Steven Marriott is a singer/songwriter whose live performance never ceases to get people smiling and singing along. It’s hard to put a specific genre label on his music\, but if the Barenaked Ladies adopted Jason Mraz\, and invited the Goo Goo Dolls over for a backyard weenie roast\, they might bust out the guitars and cover Steven’s music around the campfire.
URL:https://foamersfolly.ca/event/live-music-steven-marriott/
LOCATION:Foamers’ Folly Brewing Co.\, 19221 122a Ave.\, Pitt Meadows\, BC\, V3Y 2E9\, Canada
ATTACH;FMTTYPE=image/jpeg:https://foamersfolly.ca/wp-content/uploads/2024/09/KatieCookPhotography-3302.jpg
END:VEVENT
BEGIN:VEVENT
DTSTART;TZID=UTC:20241008T190000
DTEND;TZID=UTC:20241008T203000
DTSTAMP:20260422T165141
CREATED:20240926T155644Z
LAST-MODIFIED:20240926T225130Z
UID:10000921-1728414000-1728419400@foamersfolly.ca
SUMMARY:Trivia Tuesday
DESCRIPTION:We are excited to present Trivia Tuesdays hosted by IQ 2000 Trivia! Every Tuesday from 7:00pm – 8:30pm come and play for your chance to win gift cards\, merchandise\, and other cool prizes!
URL:https://foamersfolly.ca/event/trivia-tuesday-42/2024-10-08/
LOCATION:Foamers’ Folly Brewing Co.\, 19221 122a Ave.\, Pitt Meadows\, BC\, V3Y 2E9\, Canada
ATTACH;FMTTYPE=image/jpeg:https://foamersfolly.ca/wp-content/uploads/2023/01/327391277_3356732067982597_5466787340285710940_n.jpeg
ORGANIZER;CN="IQ 2000 Trivia":MAILTO:creative@foamersfolly.ca
END:VEVENT
BEGIN:VEVENT
DTSTART;TZID=UTC:20241001T190000
DTEND;TZID=UTC:20241001T203000
DTSTAMP:20260422T165141
CREATED:20240926T155644Z
LAST-MODIFIED:20240926T225130Z
UID:10000123-1727809200-1727814600@foamersfolly.ca
SUMMARY:Trivia Tuesday
DESCRIPTION:We are excited to present Trivia Tuesdays hosted by IQ 2000 Trivia! Every Tuesday from 7:00pm – 8:30pm come and play for your chance to win gift cards\, merchandise\, and other cool prizes!
URL:https://foamersfolly.ca/event/trivia-tuesday-42/2024-10-01/
LOCATION:Foamers’ Folly Brewing Co.\, 19221 122a Ave.\, Pitt Meadows\, BC\, V3Y 2E9\, Canada
ATTACH;FMTTYPE=image/jpeg:https://foamersfolly.ca/wp-content/uploads/2023/01/327391277_3356732067982597_5466787340285710940_n.jpeg
ORGANIZER;CN="IQ 2000 Trivia":MAILTO:creative@foamersfolly.ca
END:VEVENT
BEGIN:VEVENT
DTSTART;TZID=UTC:20240929T190000
DTEND;TZID=UTC:20240929T220000
DTSTAMP:20260422T165141
CREATED:20240926T161516Z
LAST-MODIFIED:20240926T161516Z
UID:10000132-1727636400-1727647200@foamersfolly.ca
SUMMARY:The Real Happy Hour Pride - Detour: Pitt Meadows
DESCRIPTION:You’ve heard of Happy Hour\, but have you heard of The Real Happy Hour? We’re coming to you to from Vancouver to part with you\, Pitt Meadows! \n 
URL:https://foamersfolly.ca/event/the-real-happy-hour-pride-detour-pitt-meadows/
LOCATION:Foamers’ Folly Brewing Co.\, 19221 122a Ave.\, Pitt Meadows\, BC\, V3Y 2E9\, Canada
ORGANIZER;CN="IQ 2000 Trivia":MAILTO:creative@foamersfolly.ca
END:VEVENT
END:VCALENDAR